BEGIN:VCALENDAR
VERSION:2.0
PRODID:-//Preverlab - ECPv6.8.2.1//NONSGML v1.0//EN
CALSCALE:GREGORIAN
METHOD:PUBLISH
X-ORIGINAL-URL:https://preverlab.com
X-WR-CALDESC:Eventos para Preverlab
REFRESH-INTERVAL;VALUE=DURATION:PT1H
X-Robots-Tag:noindex
X-PUBLISHED-TTL:PT1H
BEGIN:VTIMEZONE
TZID:UTC
BEGIN:STANDARD
TZOFFSETFROM:+0000
TZOFFSETTO:+0000
TZNAME:UTC
DTSTART:20260101T000000
END:STANDARD
END:VTIMEZONE
BEGIN:VEVENT
DTSTART;TZID=UTC:20260429T100000
DTEND;TZID=UTC:20260429T100000
DTSTAMP:20260421T091634
CREATED:20260323T110712Z
LAST-MODIFIED:20260327T102929Z
UID:7865-1777456800-1777456800@preverlab.com
SUMMARY:PERSONAL EN OBRAS DE CONSTRUCCIÓN
DESCRIPTION:
URL:https://preverlab.com/calendario/personal-en-obras-de-construccion/
CATEGORIES:Artículo 19
ATTACH;FMTTYPE=image/jpeg:https://preverlab.com/wp-content/uploads/2026/03/OBRA-CONSTRUCCION.jpg
END:VEVENT
END:VCALENDAR