BEGIN:VCALENDAR
VERSION:2.0
PRODID:-//Preverlab - ECPv6.8.2.1//NONSGML v1.0//EN
CALSCALE:GREGORIAN
METHOD:PUBLISH
X-ORIGINAL-URL:https://preverlab.com
X-WR-CALDESC:Eventos para Preverlab
REFRESH-INTERVAL;VALUE=DURATION:PT1H
X-Robots-Tag:noindex
X-PUBLISHED-TTL:PT1H
BEGIN:VTIMEZONE
TZID:UTC
BEGIN:STANDARD
TZOFFSETFROM:+0000
TZOFFSETTO:+0000
TZNAME:UTC
DTSTART:20260101T000000
END:STANDARD
END:VTIMEZONE
BEGIN:VEVENT
DTSTART;TZID=UTC:20260504T080000
DTEND;TZID=UTC:20260526T170000
DTSTAMP:20260421T104318
CREATED:20250217T153539Z
LAST-MODIFIED:20260420T143424Z
UID:7397-1777881600-1779814800@preverlab.com
SUMMARY:Curso: Nivel básico de prevención en la construcción 60h
DESCRIPTION:El contenido formativo para el nivel básico de prevención en la construcción\, cuyo módulo tendrá una duración mínima de sesenta horas lectivas\, se esquematiza de la siguiente forma: \n\n\n\nA. Conceptos básicos sobre seguridad y salud. \n– El trabajo y la salud. Los riesgos profesionales. Factores de riesgo. – Daños derivados del trabajo. Los accidentes de trabajo y las enfermedades profesionales. Otras patologías derivadas del trabajo. – Marco normativo básico en materia de prevención de riesgos laborales. Deberes y obligaciones básicos en esta materia. \n\n\n\nB. Riesgos generales y su prevención. \n– Riesgos ligados a las condiciones de seguridad. – Riesgos ligados al medio ambiente del trabajo. – La carga del trabajo\, la fatiga y la insatisfacción laboral. – Sistemas elementales de control de riesgos. Medios de protección colectiva y equipos de protección individual. – Planes de emergencia y evacuación. – El control de la salud de los trabajadores. \n\n\n\nC. Riesgos específicos y su prevención en el sector de la construcción. \n– Diferentes fases de obra y sus protecciones correspondientes (redes\, barandillas\, andamios\, plataformas de trabajo\, escaleras\, etc.). – Implantación de obra. Locales higiénico sanitarios\, instalaciones provisionales\, etc. \n\n\n\nD. Elementos básicos de gestión de la prevención de riesgos. \n– Organismos públicos relacionados con la seguridad y salud en el trabajo. – Organización preventiva del trabajo:’rutinas’ básicas. – Documentación: recogida\, elaboración y archivo. – Representación de los trabajadores. Derechos y obligaciones (delegados de prevención\, comité de seguridad y salud\, trabajadores designados\, etc.). \n\n\n\nE. Primeros auxilios. \n– Procedimientos generales. – Plan de actuación. \n\n\n\nF. Cumplimiento operativo y legal. Conceptos generales\, responsabilidades y canales de consulta.
URL:https://preverlab.com/calendario/curso-recurso-preventivo-60h/
ATTACH;FMTTYPE=image/jpeg:https://preverlab.com/wp-content/uploads/2024/11/148.jpg
END:VEVENT
BEGIN:VEVENT
DTSTART;TZID=UTC:20260505T080000
DTEND;TZID=UTC:20260508T170000
DTSTAMP:20260421T104318
CREATED:20250124T122216Z
LAST-MODIFIED:20260420T143924Z
UID:6592-1777968000-1778259600@preverlab.com
SUMMARY:Curso: Pintura 20h
DESCRIPTION:El contenido formativo para pintura\, cuyo módulo tendrá una duración mínima de veinte horas lectivas\, se esquematiza de la siguiente forma: \n1. Técnicas preventivas.\n– Medios de protección colectiva.\n– Equipos de protección individual.\n– Señalización. \n2. Medios auxiliares\, equipos y herramientas empleados habitualmente en las obras de construcción.\n \n3. Verificación\, identificación y vigilancia del lugar del trabajo y su entorno.\n– Riesgos generales en las obras de construcción.\n– Conocimiento del entorno del lugar de trabajo. Planificación de las tareas desde un punto de vista preventivo.\n– Manipulación de productos químicos. Ficha de datos de seguridad. Simbología. \n4. Interferencias entre actividades.\n– Actividades simultáneas o sucesivas. \n5. Derechos y obligaciones.\n– Marco normativo general y específico.\n– Organización de la prevención de riesgos laborales.\n– Participación\, información\, consulta y propuestas.\n– Cumplimiento operativo y legal. Conceptos generales\, responsabilidades y canales de consulta.\n \n6. Primeros auxilios y medidas de emergencia.\n \nContenido específico para pintura: \n1. Definición de los trabajos.\n– Pintura en exterior e interior.\n– Técnicas de aplicación.\n– Pinturas especiales.\n– Preparación de soportes. \n2. Técnicas preventivas específicas.\n– Identificación de riesgos.\n– Evaluación de riesgos del puesto (genérica).\n– Medios auxiliares (andamios\, escaleras de mano\,…).\n– Equipos de trabajo y herramientas: riesgos y medidas preventivas.\n– Manipulación manual de cargas.\n. – Medios de protección colectiva (colocación\, usos\, obligaciones y mantenimiento).\n– Equipos de protección individual (colocación\, usos\, obligaciones y mantenimiento).\n– Materiales y productos (etiquetado\, fichas de datos de seguridad\, frases H y P\,…).
URL:https://preverlab.com/calendario/curso-prl-pintura-20h/
ATTACH;FMTTYPE=image/avif:https://preverlab.com/wp-content/uploads/2025/01/e962ec52-8441-43cd-abb1-d30c07b78ffc.avif
END:VEVENT
BEGIN:VEVENT
DTSTART;TZID=UTC:20260507T100000
DTEND;TZID=UTC:20260507T120000
DTSTAMP:20260421T104318
CREATED:20260323T104110Z
LAST-MODIFIED:20260416T143700Z
UID:7845-1778148000-1778155200@preverlab.com
SUMMARY:PORTERO / CONSERJE
DESCRIPTION:
URL:https://preverlab.com/calendario/portero-conserje/
CATEGORIES:Artículo 19
ATTACH;FMTTYPE=image/jpeg:https://preverlab.com/wp-content/uploads/2026/03/CONSERJE.jpg
END:VEVENT
END:VCALENDAR