BEGIN:VCALENDAR
VERSION:2.0
PRODID:-//Preverlab - ECPv6.8.2.1//NONSGML v1.0//EN
CALSCALE:GREGORIAN
METHOD:PUBLISH
X-WR-CALNAME:Preverlab
X-ORIGINAL-URL:https://preverlab.com
X-WR-CALDESC:Eventos para Preverlab
REFRESH-INTERVAL;VALUE=DURATION:PT1H
X-Robots-Tag:noindex
X-PUBLISHED-TTL:PT1H
BEGIN:VTIMEZONE
TZID:UTC
BEGIN:STANDARD
TZOFFSETFROM:+0000
TZOFFSETTO:+0000
TZNAME:UTC
DTSTART:20260101T000000
END:STANDARD
END:VTIMEZONE
BEGIN:VEVENT
DTSTART;TZID=UTC:20260504T080000
DTEND;TZID=UTC:20260526T170000
DTSTAMP:20260421T104150
CREATED:20250217T153539Z
LAST-MODIFIED:20260420T143424Z
UID:7397-1777881600-1779814800@preverlab.com
SUMMARY:Curso: Nivel básico de prevención en la construcción 60h
DESCRIPTION:El contenido formativo para el nivel básico de prevención en la construcción\, cuyo módulo tendrá una duración mínima de sesenta horas lectivas\, se esquematiza de la siguiente forma: \n\n\n\nA. Conceptos básicos sobre seguridad y salud. \n– El trabajo y la salud. Los riesgos profesionales. Factores de riesgo. – Daños derivados del trabajo. Los accidentes de trabajo y las enfermedades profesionales. Otras patologías derivadas del trabajo. – Marco normativo básico en materia de prevención de riesgos laborales. Deberes y obligaciones básicos en esta materia. \n\n\n\nB. Riesgos generales y su prevención. \n– Riesgos ligados a las condiciones de seguridad. – Riesgos ligados al medio ambiente del trabajo. – La carga del trabajo\, la fatiga y la insatisfacción laboral. – Sistemas elementales de control de riesgos. Medios de protección colectiva y equipos de protección individual. – Planes de emergencia y evacuación. – El control de la salud de los trabajadores. \n\n\n\nC. Riesgos específicos y su prevención en el sector de la construcción. \n– Diferentes fases de obra y sus protecciones correspondientes (redes\, barandillas\, andamios\, plataformas de trabajo\, escaleras\, etc.). – Implantación de obra. Locales higiénico sanitarios\, instalaciones provisionales\, etc. \n\n\n\nD. Elementos básicos de gestión de la prevención de riesgos. \n– Organismos públicos relacionados con la seguridad y salud en el trabajo. – Organización preventiva del trabajo:’rutinas’ básicas. – Documentación: recogida\, elaboración y archivo. – Representación de los trabajadores. Derechos y obligaciones (delegados de prevención\, comité de seguridad y salud\, trabajadores designados\, etc.). \n\n\n\nE. Primeros auxilios. \n– Procedimientos generales. – Plan de actuación. \n\n\n\nF. Cumplimiento operativo y legal. Conceptos generales\, responsabilidades y canales de consulta.
URL:https://preverlab.com/calendario/curso-recurso-preventivo-60h/
ATTACH;FMTTYPE=image/jpeg:https://preverlab.com/wp-content/uploads/2024/11/148.jpg
END:VEVENT
BEGIN:VEVENT
DTSTART;TZID=UTC:20260511T080000
DTEND;TZID=UTC:20260514T170000
DTSTAMP:20260421T104150
CREATED:20250415T102044Z
LAST-MODIFIED:20260420T144655Z
UID:7522-1778486400-1778778000@preverlab.com
SUMMARY:Curso: Fontanería 20h
DESCRIPTION:Segundo ciclo formativo en prevención de riesgos laborales en el convenio del metal en construcción. \nA. Definición de los trabajos. \nInstalaciones provisionales de obra.\nBajantes.\nInstalación colgada.\nInstalaciones en locales (servicios\, cocinas\, baños\, etc.).\nUrbanizaciones\, pozos\, arquetas\, etc. \nB. Técnicas preventivas específicas. \nAplicación del plan de seguridad y salud en la tarea concreta. Evaluación de riesgos en el caso de que no exista plan.\nProtecciones colectivas (colocación\, usos\, obligaciones y mantenimiento).\nProtecciones individuales (colocación\, usos\, obligaciones y mantenimiento). \nC. Medios auxiliares\, equipos y herramientas. \nEquipos portátiles y herramientas.\nEquipos de soldadura.\nAndamios.\nPequeño material\, etc. \nD. Verificación\, identificación y vigilancia del lugar de trabajo y su entorno. \nRiesgos y medidas preventivas necesarias.\nConocimiento del entorno del lugar de trabajo y del tránsito por el mismo. Planificación de las tareas desde un punto de vista preventivo. \nE. Interferencias entre actividades. \nActividades simultáneas o sucesivas. \nF. Derechos y obligaciones. \nMarco normativo general y específico.\nOrganización de la prevención.\nFomento de la toma de conciencia sobre la importancia de involucrarse en la prevención de riesgos laborales.\nParticipación\, información\, consulta y propuestas.
URL:https://preverlab.com/calendario/curso-prl-20h-fontaneria/
ATTACH;FMTTYPE=image/png:https://preverlab.com/wp-content/uploads/2024/12/TA0118.png
END:VEVENT
BEGIN:VEVENT
DTSTART;TZID=UTC:20260514T080000
DTEND;TZID=UTC:20260514T170000
DTSTAMP:20260421T104150
CREATED:20250523T114317Z
LAST-MODIFIED:20260421T100658Z
UID:7583-1778745600-1778778000@preverlab.com
SUMMARY:TRABAJOS EN ALTURA 6H
DESCRIPTION:El objetivo del curso es instruir al alumno para conocer los criterios y normas de seguridad básicas que deben aplicarse durante el desarrollo de los trabajos en altura. \nDicha formación entre otros aspectos se imparte basándonos también en lo establecido en el RD 2177/2004 y distintas NTP emitidas por el INSHT y Normas UNE. \n  \nPARTE TEÓRICA\n1. Acerca de la prevención de riesgos laborales\n2. Legislación Básica\n3. Condiciones Generales de Seguridad\n4. La documentación reglamentaria para los trabajos en altura\n• EL plan de seguridad\n• Permisos especiales\n• Registro de mantenimiento de los EPIS\, la maquinaria y herramientas. \nPARTE PRÁCTICA\n5. Situaciones de riesgo. Descripción.\n6. Epis y dispositivos anticaídas.\n6.1. Epis:\n• Cascos\n• Arnés integral.\n• Cuerdas.\n• Cordinos y cintas.\n• Bloque bidireccionales y unidireccionales.\n• Descensores.\n• Anclajes\, tipo y usos.\n6.2. Dispositivos anticaídas.\n• Líneas de vida verticales.\n• Líneas de vida horizontales.\n• Líneas de vida indefinidas.\n• Líneas de vida provisionales.\n• Líneas de vida de fortuna.\n• Otros tipos de dispositivos anticaídas.\n7. Física aplicada a las caídas\n• La energía cinegética.\n• EL factor de caída.\n• La fuerza de choque.\n• Los triángulos de fuerza.\n• La cadena dinámica de seguridad.\n• El síndrome del arnés.\n8. Técnicas de progresión en altura\n• Progresión específica para estructuras y edificaciones.\n• Progresión ascendente.\n• Progresión descendente.\n• Progresión horizontal.\n• Otras técnicas especiales de progresión en altura.\n9. Trabajo ante situaciones climatológicas adversas.\n10. Anclajes.\n• Elección adecuada ante cada situación.\n• Instalación y uso correcto.\n• Uso y mantenimiento y control de anclajes.\n11. Rescate en altura.\n• Nudos y técnicas básicas de rescate en altura.\n12. La zona de trabajo\, técnicas de seguridad y prevención.\n13. Ergonomía.\n14. Señalización.
URL:https://preverlab.com/calendario/trabajo-en-altura-6h/
ATTACH;FMTTYPE=image/jpeg:https://preverlab.com/wp-content/uploads/2025/05/Captura-de-pantalla-2025-05-23-134507.jpg
END:VEVENT
END:VCALENDAR