BEGIN:VCALENDAR
VERSION:2.0
PRODID:-//Preverlab - ECPv6.8.2.1//NONSGML v1.0//EN
CALSCALE:GREGORIAN
METHOD:PUBLISH
X-ORIGINAL-URL:https://preverlab.com
X-WR-CALDESC:Eventos para Preverlab
REFRESH-INTERVAL;VALUE=DURATION:PT1H
X-Robots-Tag:noindex
X-PUBLISHED-TTL:PT1H
BEGIN:VTIMEZONE
TZID:UTC
BEGIN:STANDARD
TZOFFSETFROM:+0000
TZOFFSETTO:+0000
TZNAME:UTC
DTSTART:20260101T000000
END:STANDARD
END:VTIMEZONE
BEGIN:VEVENT
DTSTART;TZID=UTC:20260504T080000
DTEND;TZID=UTC:20260526T170000
DTSTAMP:20260421T123312
CREATED:20250217T153539Z
LAST-MODIFIED:20260420T143424Z
UID:7397-1777881600-1779814800@preverlab.com
SUMMARY:Curso: Nivel básico de prevención en la construcción 60h
DESCRIPTION:El contenido formativo para el nivel básico de prevención en la construcción\, cuyo módulo tendrá una duración mínima de sesenta horas lectivas\, se esquematiza de la siguiente forma: \n\n\n\nA. Conceptos básicos sobre seguridad y salud. \n– El trabajo y la salud. Los riesgos profesionales. Factores de riesgo. – Daños derivados del trabajo. Los accidentes de trabajo y las enfermedades profesionales. Otras patologías derivadas del trabajo. – Marco normativo básico en materia de prevención de riesgos laborales. Deberes y obligaciones básicos en esta materia. \n\n\n\nB. Riesgos generales y su prevención. \n– Riesgos ligados a las condiciones de seguridad. – Riesgos ligados al medio ambiente del trabajo. – La carga del trabajo\, la fatiga y la insatisfacción laboral. – Sistemas elementales de control de riesgos. Medios de protección colectiva y equipos de protección individual. – Planes de emergencia y evacuación. – El control de la salud de los trabajadores. \n\n\n\nC. Riesgos específicos y su prevención en el sector de la construcción. \n– Diferentes fases de obra y sus protecciones correspondientes (redes\, barandillas\, andamios\, plataformas de trabajo\, escaleras\, etc.). – Implantación de obra. Locales higiénico sanitarios\, instalaciones provisionales\, etc. \n\n\n\nD. Elementos básicos de gestión de la prevención de riesgos. \n– Organismos públicos relacionados con la seguridad y salud en el trabajo. – Organización preventiva del trabajo:’rutinas’ básicas. – Documentación: recogida\, elaboración y archivo. – Representación de los trabajadores. Derechos y obligaciones (delegados de prevención\, comité de seguridad y salud\, trabajadores designados\, etc.). \n\n\n\nE. Primeros auxilios. \n– Procedimientos generales. – Plan de actuación. \n\n\n\nF. Cumplimiento operativo y legal. Conceptos generales\, responsabilidades y canales de consulta.
URL:https://preverlab.com/calendario/curso-recurso-preventivo-60h/
ATTACH;FMTTYPE=image/jpeg:https://preverlab.com/wp-content/uploads/2024/11/148.jpg
END:VEVENT
BEGIN:VEVENT
DTSTART;TZID=UTC:20260518T080000
DTEND;TZID=UTC:20260520T170000
DTSTAMP:20260421T123312
CREATED:20250217T153034Z
LAST-MODIFIED:20260420T144829Z
UID:7395-1779091200-1779296400@preverlab.com
SUMMARY:Curso: Electricidad: montaje y mantenimiento de instalaciones eléctricas de alta y baja tensión 20h
DESCRIPTION:A. Definición de los trabajos. \nLíneas eléctricas aéreas y subterráneas de alta y baja tensión.\nCentros de transformación.\nSubestaciones.\nMontaje y mantenimiento eléctrico industrial y edificación.\nInstalaciones provisionales de obra. \nB. Técnicas preventivas específicas. \nAplicación del plan de seguridad y salud en la tarea concreta. Evaluación de riesgos en el caso de que no exista plan.\nProtecciones colectivas (colocación\, usos\, obligaciones y mantenimiento).\nProtecciones individuales (colocación\, usos\, obligaciones y mantenimiento).\nMontaje\, utilización y desmontaje de líneas de vida verticales y horizontales en los distintos tipos de apoyos y estructuras. \nC. Medios auxiliares\, equipos y herramientas. \nEscaleras.\nPequeño material.\nEquipos portátiles y herramientas.\nMáquinas de tiro\, de freno\, de empalmar\, poleas\, gatos\, carros de salida a conductores\, pértigas de verificación de ausencia de tensión.\nPlataformas elevadoras. \nD. Verificación\, identificación y vigilancia del lugar de trabajo y su entorno. \nRiesgos y medidas preventivas específicas.\nConocimiento del entorno del lugar de trabajo y del tránsito por el mismo. Planificación de las tareas desde un punto de vista preventivo. \nE. Interferencias entre actividades. \nActividades simultáneas o sucesivas.\nPrevisión de las necesidades de los diferentes equipos eléctricos. \nF. Primeros auxilios y medidas de emergencia. \nConocimientos específicos básicos. Objetivos y funciones. \nG. Derechos y Obligaciones. \nMarco normativo general y específico.\nOrganización de la prevención.\nFomento de la toma de conciencia sobre la importancia de involucrarse en la prevención de riesgos laborales.\nParticipación\, información\, consulta y propuestas.
URL:https://preverlab.com/calendario/curso-prl-20h-electricidad/
ATTACH;FMTTYPE=image/jpeg:https://preverlab.com/wp-content/uploads/2025/01/xxl_cropped_8192041d24b1997073e7fbd90a179611.jpg
END:VEVENT
BEGIN:VEVENT
DTSTART;TZID=UTC:20260518T100000
DTEND;TZID=UTC:20260518T120000
DTSTAMP:20260421T123312
CREATED:20260323T110228Z
LAST-MODIFIED:20260421T100931Z
UID:7855-1779098400-1779105600@preverlab.com
SUMMARY:ESTETICISTA
DESCRIPTION:
URL:https://preverlab.com/calendario/esteticista/
CATEGORIES:Artículo 19
ATTACH;FMTTYPE=image/jpeg:https://preverlab.com/wp-content/uploads/2026/03/ESTETICISTA.jpg
END:VEVENT
BEGIN:VEVENT
DTSTART;TZID=UTC:20260519T100000
DTEND;TZID=UTC:20260519T120000
DTSTAMP:20260421T123312
CREATED:20260323T110317Z
LAST-MODIFIED:20260421T101001Z
UID:7857-1779184800-1779192000@preverlab.com
SUMMARY:PERSONAL DE ALMACÉN
DESCRIPTION:
URL:https://preverlab.com/calendario/personal-de-almacen/
CATEGORIES:Artículo 19
ATTACH;FMTTYPE=image/jpeg:https://preverlab.com/wp-content/uploads/2026/03/ALMACEN.jpg
END:VEVENT
BEGIN:VEVENT
DTSTART;TZID=UTC:20260520T100000
DTEND;TZID=UTC:20260520T120000
DTSTAMP:20260421T123312
CREATED:20260323T110406Z
LAST-MODIFIED:20260421T101025Z
UID:7859-1779271200-1779278400@preverlab.com
SUMMARY:FISIOTERAPEUTA
DESCRIPTION:
URL:https://preverlab.com/calendario/fisioterapeuta/
CATEGORIES:Artículo 19
ATTACH;FMTTYPE=image/jpeg:https://preverlab.com/wp-content/uploads/2026/03/FISIOTERAPEUTA.jpg
END:VEVENT
BEGIN:VEVENT
DTSTART;TZID=UTC:20260521T100000
DTEND;TZID=UTC:20260521T120000
DTSTAMP:20260421T123312
CREATED:20260323T110513Z
LAST-MODIFIED:20260421T101101Z
UID:7861-1779357600-1779364800@preverlab.com
SUMMARY:USO DE PVD (TRABAJO DE OFICINA)
DESCRIPTION:
URL:https://preverlab.com/calendario/uso-de-pvd-trabajo-de-oficina/
CATEGORIES:Artículo 19
ATTACH;FMTTYPE=image/jpeg:https://preverlab.com/wp-content/uploads/2026/03/PVD.jpg
END:VEVENT
END:VCALENDAR